BEGIN:VCALENDAR
VERSION:2.0
PRODID:-//iCARE Pharmacy Services - ECPv6.15.20//NONSGML v1.0//EN
CALSCALE:GREGORIAN
METHOD:PUBLISH
X-ORIGINAL-URL:https://www.icarepharmacyservices.org
X-WR-CALDESC:Events for iCARE Pharmacy Services
REFRESH-INTERVAL;VALUE=DURATION:PT1H
X-Robots-Tag:noindex
X-PUBLISHED-TTL:PT1H
BEGIN:VTIMEZONE
TZID:America/New_York
BEGIN:DAYLIGHT
TZOFFSETFROM:-0500
TZOFFSETTO:-0400
TZNAME:EDT
DTSTART:20250309T070000
END:DAYLIGHT
BEGIN:STANDARD
TZOFFSETFROM:-0400
TZOFFSETTO:-0500
TZNAME:EST
DTSTART:20251102T060000
END:STANDARD
BEGIN:DAYLIGHT
TZOFFSETFROM:-0500
TZOFFSETTO:-0400
TZNAME:EDT
DTSTART:20260308T070000
END:DAYLIGHT
BEGIN:STANDARD
TZOFFSETFROM:-0400
TZOFFSETTO:-0500
TZNAME:EST
DTSTART:20261101T060000
END:STANDARD
BEGIN:DAYLIGHT
TZOFFSETFROM:-0500
TZOFFSETTO:-0400
TZNAME:EDT
DTSTART:20270314T070000
END:DAYLIGHT
BEGIN:STANDARD
TZOFFSETFROM:-0400
TZOFFSETTO:-0500
TZNAME:EST
DTSTART:20271107T060000
END:STANDARD
END:VTIMEZONE
BEGIN:VEVENT
DTSTART;TZID=America/New_York:20260620T080000
DTEND;TZID=America/New_York:20260620T170000
DTSTAMP:20260424T162252
CREATED:20260424T160148Z
LAST-MODIFIED:20260424T160148Z
UID:24463-1781942400-1781974800@www.icarepharmacyservices.org
SUMMARY:2026 General CE Conference - Saturday\, June 20\, 2026 (5 hrs. CEUs)
DESCRIPTION:SATURDAY\, JUNE 20\, 2026 \n  \nHIV AIDS UPDATE                                                                              \n8:00-9:00am G/T (1 CEU)\n \nElizabeth Sherman\, PharmD\, Associate Professor of Pharmacy Practice\, Principal Investigator\, NSU Local Partner Site\, South Florida – Southeast AIDS Education and Training Center\, Nova Southeastern University \nUpon completion of this activity\, pharmacists will be able to: Describe epidemiology of HIV/AIDS; Identify modes of HIV transmission & evidenced-based prevention methods to reduce new infections; Define the acronyms PrEP and PEP and describe their applications for pharmacists; Interpret current Florida law on HIV/AIDS and its impact on testing\, reporting\, confidentiality\, procedures for pregnant women and partner notification; Describe current clinical management strategies for HIV/AIDS and related complications; Identify the pharmacist’s role in providing care for people affected by HIV. \nUAN: 0675-0000-26-022-L02-P \nUpon completion of this activity\, technicians will be able to: Identify methods of transmission of HIV/AIDS; List medication agents used to treat HIV/AIDS; Identify ways the technician can provide care for HIV infected patients; Explain current Florida law on HIV/AIDS and its impact on testing\, reporting and partner notification. \nUAN: 0675-0000-26-022-L02-T \n  \nValidation and Counseling of Prescriptions for Controlled Substance and Opioids 9:00- \n11:00AM G/T (2 CEUs) \nKatie Maples\, PharmD\, Pain and Palliative Care Coordinator and Opioid Stewardship Pharmacist\, UF Health Jacksonville \n \nUpon completion of this activity\, pharmacists will be able to: Describe how to ensure access to controlled substances for all patients with a valid prescription; Use the Prescription Drug Monitoring Program’s Database; Assess prescriptions for appropriate therapeutic value; Detect prescriptions that are not based on a legitimate medical purpose; Discuss the laws and rules related to the prescribing and dispensing of controlled substances; Discuss proper patient storage and disposal of controlled substances; Discuss protocols for addressing and resolving problems recognized during the drug utilization review; Provide education on section 381.887\, F.S.\, emergency treatment for suspected opioid overdoses and on the State Surgeon General’s Statewide Standing Order for Naloxone; Counsel patients with opioid prescriptions; Provide available treatment resources for opioid physical dependence\, addiction\, misuse\, or abuse. \nUAN: 0675-0000-26-023-L08-P* \nUpon completion of this activity\, technicians will be able to: Use the Prescription Drug Monitoring Program’s Database; Assess prescriptions for appropriate and accurate information; Recognize the laws and rules related to the prescribing and dispensing of controlled substances. \nUAN: 0675-0000-26-023-L08-T* \n\nMitigation and Prevention of Medication Errors in Pharmacy Practice \n11:15-1:15Pm G/T (2 CEUs) \nNorman P. Tomaka\, BS Pharm\, MS\, CPh\, FAPhA\, Clinical Consultant Pharmacist\, Consultant Pharmacy Services  \nUpon completion of this activity\, pharmacists will be able to: Recognize statutory responsibilities that foster ongoing pharmacy regulatory compliance; Recognize recurring medication errors; Describe quality improvement regulations for pharmacies licensed in Florida; Define elements of a proactive Continuous Quality Improvement process that promotes ongoing quality; Discuss the use of Root Cause Analysis (RCA) to enhance quality pharmacy services and prevent errors; Describe the implementation of an action plan to improve overall pharmacy practice quality and mitigate medication errors; Demonstrate enactment of procedures that promote ongoing patient safety in pharmacy practice. \nUAN: 0675-0000-26-024-L05-P \nUpon completion of this activity\, technicians will be able to: Recognize statutory responsibilities that foster ongoing pharmacy regulatory compliance; Recognize recurring medication errors; Describe quality improvement regulations for pharmacies licensed in Florida; Define elements of a proactive Continuous Quality Improvement process that promotes ongoing quality; Discuss the use of Root Cause Analysis (RCA) to enhance quality pharmacy services and prevent errors; Describe the implementation of an action plan to improve overall pharmacy practice quality and mitigate medication errors; Outline procedures that promote ongoing patient safety in pharmacy practice. \nUAN: 0675-0000-26-024-L05-T
URL:https://www.icarepharmacyservices.org/event/2026-general-ce-conference-saturday-june-20-2026-5-hrs-ceus/
CATEGORIES:Conference
ATTACH;FMTTYPE=image/png:https://www.icarepharmacyservices.org/wp-content/uploads/2024/05/General-CE-1.png
END:VEVENT
END:VCALENDAR